BEGIN:VCALENDAR
VERSION:2.0
CALSCALE:GREGORIAN
METHOD:PUBLISH
X-WR-TIMEZONE:Australia/Sydney
BEGIN:VTIMEZONE
TZID:Australia/Sydney
BEGIN:STANDARD
TZNAME:AEST
END:STANDARD
END:VTIMEZONE
BEGIN:VEVENT
DTSTART;TZID=Australia/Sydney:20190315
DTEND;TZID=Australia/Sydney:20190315
RRULE:FREQ=WEEKLY;UNTIL=20190329T000000;BYDAY=FR
DTSTAMP:20190301T035637
UID:181
SUMMARY:Year 5/6 Interschool Sport
DESCRIPTION:







SEQUENCE:0
STATUS:CONFIRMED
TRANSP:OPAQUE
END:VEVENT
END:VCALENDAR